BEGIN:VCALENDAR
VERSION:2.0
PRODID:-//ChamberMaster//Event Calendar 2.0//EN
METHOD:PUBLISH
X-PUBLISHED-TTL:P3D
REFRESH-INTERVAL:P3D
CALSCALE:GREGORIAN
BEGIN:VEVENT
DTSTART:20191030T140000Z
DTEND:20191030T144500Z
X-MICROSOFT-CDO-ALLDAYEVENT:FALSE
SUMMARY:Zumba Gold
DESCRIPTION:Zumba Gold takes the popular Latin dance inspired workout of Zumba and makes it accessible to seniors\, beginners or anyone needing modifications. Zumba Gold builds cardiovascular health by challenging the heart and working the muscles of the hips\, legs\, arms with dance moves. This program can be done seated. Come try it out!
X-ALT-DESC;FMTTYPE=text/html:Zumba Gold takes the popular Latin dance inspired workout of Zumba and makes it accessible to seniors\, beginners or anyone needing modifications. Zumba Gold builds cardiovascular health by challenging the heart and working the muscles of the hips\, legs\, arms with dance moves. This program can be done seated. Come try it out!
LOCATION:YMCA Multipurpose Room
UID:e.413.28880
SEQUENCE:3
DTSTAMP:20260425T190910Z
URL:https://business.pierre.org/events/details/zumba-gold-10-30-2019-28880
END:VEVENT

END:VCALENDAR
