BEGIN:VCALENDAR
VERSION:2.0
PRODID:-//ChamberMaster//Event Calendar 2.0//EN
METHOD:PUBLISH
X-PUBLISHED-TTL:P3D
REFRESH-INTERVAL:P3D
CALSCALE:GREGORIAN
BEGIN:VEVENT
DTSTART:20190320T140000Z
DTEND:20190320T144500Z
X-MICROSOFT-CDO-ALLDAYEVENT:FALSE
SUMMARY:Zumba Gold
DESCRIPTION:Zumba Gold takes the popular Latin dance inspired workout of Zumba and makes it accessible to seniors\, beginners or others needing modifications. It builds cardiovascular health by challenging the heart and also works the muscles of the hips\, legs and arms. This program can be done seated or standing.
X-ALT-DESC;FMTTYPE=text/html:Zumba Gold takes the popular Latin dance inspired workout of Zumba and makes it accessible to seniors\, beginners or others needing modifications. It builds cardiovascular health by challenging the heart and also works the muscles of the hips\, legs and arms. This program can be done seated or standing.
LOCATION:YMCA/Pierre Aquatic Center Multipurpose Room
UID:e.413.26680
SEQUENCE:3
DTSTAMP:20260421T192732Z
URL:https://business.pierre.org/events/details/zumba-gold-03-20-2019-26680
END:VEVENT

END:VCALENDAR
