BEGIN:VCALENDAR
VERSION:2.0
PRODID:-//ChamberMaster//Event Calendar 2.0//EN
METHOD:PUBLISH
X-PUBLISHED-TTL:P3D
REFRESH-INTERVAL:P3D
CALSCALE:GREGORIAN
BEGIN:VEVENT
DTSTART:20191117T003000Z
DTEND:20191117T030000Z
X-MICROSOFT-CDO-ALLDAYEVENT:FALSE
SUMMARY:YMCA Pizza Pool Party
DESCRIPTION:Open to all boys and girls in 1st - 5th grade. Party at the Y for the kids = free time for the parents. The Y provides pizza\, pop\, swimming\, gym games\, ball pit\, movies\, crafts and more.
X-ALT-DESC;FMTTYPE=text/html:Open to all boys and girls in 1st - 5th grade. Party at the Y for the kids = free time for the parents. The Y provides pizza\, pop\, swimming\, gym games\, ball pit\, movies\, crafts and more.
LOCATION:Oahe Family YMCA
UID:e.413.29119
SEQUENCE:3
DTSTAMP:20260422T133203Z
URL:https://business.pierre.org/events/details/ymca-pizza-pool-party-29119
END:VEVENT

END:VCALENDAR
