BEGIN:VCALENDAR
VERSION:2.0
PRODID:-//ChamberMaster//Event Calendar 2.0//EN
METHOD:PUBLISH
X-PUBLISHED-TTL:P3D
REFRESH-INTERVAL:P3D
CALSCALE:GREGORIAN
BEGIN:VEVENT
DTSTART:20240717T230500Z
DTEND:20240717T230500Z
X-MICROSOFT-CDO-ALLDAYEVENT:FALSE
SUMMARY:YMCA Night - Oahe Zap Baseball
DESCRIPTION:Oahe Zap Baseball invites you out to the ballpark Wednesday\, July 17 as the Zap take on the Spearfish Sasquatch at 6:05 PM for YMCA Night.\n\n\n\nWheel Winning Wednesday Spin the Wheel for a chance to win Denver Air Tickets\n\n\n\nThis summer marks the second season of the Zap Baseball and we are doing our very best to bring the fun of summer Baseball back to the community of central South Dakota!\n\n\n\nGet you tickets: Link
X-ALT-DESC;FMTTYPE=text/html:Oahe Zap Baseball invites you out to the ballpark Wednesday\, July 17 as the Zap take on the Spearfish Sasquatch at 6:05 PM for YMCA Night.<br />\n<br />\nWheel Winning Wednesday Spin the Wheel for a chance to win Denver Air Tickets<br />\n<br />\nThis summer marks the second season of the Zap Baseball and we are doing our very best to bring the fun of summer Baseball back to the community of central South Dakota!<br />\n<br />\nGet you tickets: <a href="https://oahezapbaseball.goigniter.com/events/28955-spearfish-sasquatch-vs-oahe-zap?fbclid=IwZXh0bgNhZW0CMTAAAR1HiUbc_FPVXt3IlhI_6kAoyzaiG4eYVAgRcwdprQPhsVHHNrFivFweS0k_aem_9GaffLnRhbe6ayiL2uhkaQ">Link</a>
LOCATION:Hyde Stadium
UID:e.413.39568
SEQUENCE:3
DTSTAMP:20260423T093527Z
URL:https://business.pierre.org/events/details/ymca-night-oahe-zap-baseball-39568
END:VEVENT

END:VCALENDAR
