BEGIN:VCALENDAR
VERSION:2.0
PRODID:-//ChamberMaster//Event Calendar 2.0//EN
METHOD:PUBLISH
X-PUBLISHED-TTL:P3D
REFRESH-INTERVAL:P3D
CALSCALE:GREGORIAN
BEGIN:VEVENT
DTSTART:20241023T150000Z
DTEND:20241023T150000Z
X-MICROSOFT-CDO-ALLDAYEVENT:FALSE
SUMMARY:We Care\, Pink Hair - Avera & A Cut N Style
DESCRIPTION:We Care\, Pink Hair! Proceeds support Avera Cancer Institute! Suggested donation of $10 or more. Proceeds benefit patients and families at Avera Cancer Institute. \n\n\n\nA Cut N Style October 1st-31st. \n\nAppointments preferred. Walk-Ins as available. Cash and check accepted. Phone: 605-224-1651\n\nAddress: 207 E. Missouri Avenue Ste: 2A\, Pierre
X-ALT-DESC;FMTTYPE=text/html:We Care\, Pink Hair! Proceeds support Avera Cancer Institute! Suggested donation of $10 or more. Proceeds benefit patients and families at Avera Cancer Institute.&nbsp\;<br>\n<br>\nA Cut N Style October 1st-31st.&nbsp\;<br>\nAppointments preferred. Walk-Ins as available. Cash and check accepted. <strong>Phone</strong>: 605-224-1651<br>\n<strong>Address</strong>: 207 E. Missouri Avenue Ste: 2A\, Pierre
LOCATION:Address: 207 E. Missouri Avenue Ste: 2A\, Pierre
UID:e.413.40143
SEQUENCE:3
DTSTAMP:20260423T052528Z
URL:https://business.pierre.org/events/details/we-care-pink-hair-avera-a-cut-n-style-10-23-2024-40143
END:VEVENT

END:VCALENDAR
