BEGIN:VCALENDAR
VERSION:2.0
PRODID:-//ChamberMaster//Event Calendar 2.0//EN
METHOD:PUBLISH
X-PUBLISHED-TTL:P3D
REFRESH-INTERVAL:P3D
CALSCALE:GREGORIAN
BEGIN:VEVENT
DTSTART:20211026T210000Z
DTEND:20211026T230000Z
X-MICROSOFT-CDO-ALLDAYEVENT:FALSE
SUMMARY:Wallace Halverson Day
DESCRIPTION:This is an open house and all are welcome! We will read the State Proclamation of "Wallace Halverson Day" and provide campus tours. There will be a drawing for a chance to win a fantastic prize and no event is complete without a fun selfie station and balloon arch. Hope to see you there!
X-ALT-DESC;FMTTYPE=text/html:This is an open house and all are welcome! We will read the State Proclamation of &quot\;Wallace Halverson Day&rdquo\; and provide campus tours. There will be a drawing for a chance to win a fantastic prize and no event is complete without a fun selfie station and balloon arch. Hope to see you there!
LOCATION:Capital City Campus 925 E Sioux Ave Pierre\, SD 57501
UID:e.413.35004
SEQUENCE:3
DTSTAMP:20260423T113643Z
URL:https://business.pierre.org/events/details/wallace-halverson-day-10-26-2021-35004
END:VEVENT

END:VCALENDAR
