BEGIN:VCALENDAR
VERSION:2.0
PRODID:-//ChamberMaster//Event Calendar 2.0//EN
METHOD:PUBLISH
X-PUBLISHED-TTL:P3D
REFRESH-INTERVAL:P3D
CALSCALE:GREGORIAN
BEGIN:VEVENT
DTSTART:20200615T180000Z
DTEND:20200615T210000Z
X-MICROSOFT-CDO-ALLDAYEVENT:FALSE
SUMMARY:Volunteers needed at Feeding South Dakota
DESCRIPTION:Help your neighbors in need during the COVID-19 crisis by packing emergency food boxes at Feeding South Dakota that will help feed children and families who need food assistance. Volunteers will pack fresh and nonperishable food items in assembly-line fashion and are spaced/divided into smaller groups within the warehouse to ensure social distancing.
X-ALT-DESC;FMTTYPE=text/html:Help your neighbors in need during the COVID-19 crisis by packing emergency food boxes at Feeding South Dakota that will help feed children and families who need food assistance. Volunteers will pack fresh and nonperishable food items in assembly-line fashion and are spaced/divided into smaller groups within the warehouse to ensure social distancing.
LOCATION:Feeding South Dakota - Pierre\, 20562 Grace Avenue
UID:e.413.32012
SEQUENCE:3
DTSTAMP:20260422T040650Z
URL:https://business.pierre.org/events/details/volunteers-needed-at-feeding-south-dakota-06-15-2020-32012
END:VEVENT

END:VCALENDAR
