BEGIN:VCALENDAR
VERSION:2.0
PRODID:-//ChamberMaster//Event Calendar 2.0//EN
METHOD:PUBLISH
X-PUBLISHED-TTL:P3D
REFRESH-INTERVAL:P3D
CALSCALE:GREGORIAN
BEGIN:VEVENT
DTSTART;VALUE=DATE:20200912
DTEND;VALUE=DATE:20200913
TRANSP:TRANSPARENT
X-MICROSOFT-CDO-ALLDAYEVENT:TRUE
SUMMARY:Virtual Walk of Hope
DESCRIPTION:2020 Walk of Hope is virtual this year. While we will certainly miss seeing so many in person this year\, we want to honor your loved ones at this year's virtual event by displaying their name and/or picture during the Walk of Hope virtual program.\n\nTo submit a name\, email your loved ones name and a photo to Julie.moore@avera.org\n\n\n\nAll entries must be submitted by September 7\, 2020.
X-ALT-DESC;FMTTYPE=text/html:<div class="bi6gxh9e" style="margin-bottom: 8px\; font-family: &quot\;Segoe UI Historic&quot\;\, &quot\;Segoe UI&quot\;\, Helvetica\, Arial\, sans-serif\; color: rgb(5\, 5\, 5)\; font-size: 15px\;"><span class="oi732d6d ik7dh3pa d2edcug0 hpfvmrgz qv66sw1b c1et5uql jq4qci2q a3bd9o3v knj5qynh oo9gr5id" style="line-height: 1.3333\; overflow-wrap: break-word\; max-width: 100%\; min-width: 0px\; -webkit-font-smoothing: antialiased\; font-size: 0.9375rem\; color: var(--primary-text)\; word-break: break-word\; font-family: inherit\;">2020 Walk of Hope is virtual this year. While we will certainly miss seeing so many in person this year\, we want to honor your loved ones at this year&#39\;s virtual event by displaying their name and/or picture during the Walk of Hope virtual program.</span></div>\n\n<div class="bi6gxh9e" style="margin-bottom: 8px\; font-family: &quot\;Segoe UI Historic&quot\;\, &quot\;Segoe UI&quot\;\, Helvetica\, Arial\, sans-serif\; color: rgb(5\, 5\, 5)\; font-size: 15px\;"><span class="oi732d6d ik7dh3pa d2edcug0 hpfvmrgz qv66sw1b c1et5uql jq4qci2q a3bd9o3v knj5qynh oo9gr5id" style="line-height: 1.3333\; overflow-wrap: break-word\; max-width: 100%\; min-width: 0px\; -webkit-font-smoothing: antialiased\; font-size: 0.9375rem\; color: var(--primary-text)\; word-break: break-word\; font-family: inherit\;">To submit a name\, email your loved ones name and a photo to Julie.moore@avera.org</span><br />\n<br />\n<span style="color: rgb(5\, 5\, 5)\; font-family: &quot\;Segoe UI Historic&quot\;\, &quot\;Segoe UI&quot\;\, Helvetica\, Arial\, sans-serif\; font-size: 15px\;">All entries must be submitted by September 7\, 2020.</span></div>\n
LOCATION:Virtual
UID:e.413.32522
SEQUENCE:3
DTSTAMP:20260421T225857Z
URL:https://business.pierre.org/events/details/virtual-walk-of-hope-32522
END:VEVENT

END:VCALENDAR
