BEGIN:VCALENDAR
VERSION:2.0
PRODID:-//ChamberMaster//Event Calendar 2.0//EN
METHOD:PUBLISH
X-PUBLISHED-TTL:P3D
REFRESH-INTERVAL:P3D
CALSCALE:GREGORIAN
BEGIN:VEVENT
DTSTART:20230213T230000Z
DTEND:20230214T020000Z
X-MICROSOFT-CDO-ALLDAYEVENT:FALSE
SUMMARY:VFW Auxiliary Post 2038 Pizza Ranch Fundraiser
DESCRIPTION:Treat yourself to an evening where you don't have to cook supper while helping the VFW Auxiliary support our local veterans\, active military and their families! Join us for a good meal and a good cause! Dine in\, carry out\, or delivery all help support our organization. Want to be a part of the VFW Auxiliary? Just ask one of the volunteers and we'll be happy to give you the information!
X-ALT-DESC;FMTTYPE=text/html:Treat yourself to an evening where you don&#39\;t have to cook supper while helping the VFW Auxiliary support our local veterans\, active military and their families! Join us for a good meal and a good cause! Dine in\, carry out\, or delivery all help support our organization. Want to be a part of the VFW Auxiliary? Just ask one of the volunteers and we&#39\;ll be happy to give you the information!
LOCATION:Ft Pierre Pizza Ranch
UID:e.413.36604
SEQUENCE:3
DTSTAMP:20260422T065752Z
URL:https://business.pierre.org/events/details/vfw-auxiliary-post-2038-pizza-ranch-fundraiser-36604
END:VEVENT

END:VCALENDAR
