BEGIN:VCALENDAR
VERSION:2.0
PRODID:-//ChamberMaster//Event Calendar 2.0//EN
METHOD:PUBLISH
X-PUBLISHED-TTL:P3D
REFRESH-INTERVAL:P3D
CALSCALE:GREGORIAN
BEGIN:VEVENT
DTSTART:20241111T203000Z
DTEND:20241111T203000Z
X-MICROSOFT-CDO-ALLDAYEVENT:FALSE
SUMMARY:Veterans Day Program Stanley County School District
DESCRIPTION:Community and Veterans encouraged to attend! Cookies and Coffee will be available before and after the program for Veterans.
X-ALT-DESC;FMTTYPE=text/html:Community and Veterans encouraged to attend! Cookies and Coffee will be available before and after the program for Veterans.&nbsp\;
LOCATION:Parkview Gymnasium
UID:e.413.40339
SEQUENCE:3
DTSTAMP:20260423T054957Z
URL:https://business.pierre.org/events/details/veterans-day-program-stanley-county-school-district-40339
END:VEVENT

END:VCALENDAR
