BEGIN:VCALENDAR
VERSION:2.0
PRODID:-//ChamberMaster//Event Calendar 2.0//EN
METHOD:PUBLISH
X-PUBLISHED-TTL:P3D
REFRESH-INTERVAL:P3D
CALSCALE:GREGORIAN
BEGIN:VEVENT
DTSTART:20231111T150000Z
DTEND:20231111T220000Z
X-MICROSOFT-CDO-ALLDAYEVENT:FALSE
SUMMARY:Veteran Day Event - Kris' Glam Closet Boutique
DESCRIPTION:Saturday\, November 11th\, 2023: Veteran's Day! We are honoring our nation's Military &family! Every purchase will receive 10% off! We are doing a DRIVE for Michael J. Fitzmaurice State Veterans Home in Hot Springs\, SD. Some items they are looking for are women's/men's socks\, underwear\, toiletries\, & books! Bring in your donations and you will receive a coupon to use later! Don't forget to come shop our Vendors in the back of our store from 9-4pm! Look for more information on our Facebook page!
X-ALT-DESC;FMTTYPE=text/html:<span style="color: rgb(5\, 5\, 5)\; font-family: &quot\;Segoe UI Historic&quot\;\, &quot\;Segoe UI&quot\;\, Helvetica\, Arial\, sans-serif\; font-size: 15px\;">Saturday\, November 11th\, 2023: Veteran&rsquo\;s Day! We are honoring our nation&rsquo\;s Military &amp\;family! Every purchase will receive 10% off! We are doing a DRIVE for Michael J. Fitzmaurice State Veterans Home in Hot Springs\, SD. Some items they are looking for are women&rsquo\;s/men&rsquo\;s socks\, underwear\, toiletries\, &amp\; books! Bring in your donations and you will receive a coupon to use later! Don&#39\;t forget to come shop our Vendors in the back of our store from 9-4pm! Look for more information on our Facebook page!</span>
LOCATION:Kris' Glam Closet Boutique
UID:e.413.37680
SEQUENCE:3
DTSTAMP:20260423T101014Z
URL:https://business.pierre.org/events/details/veteran-day-event-kris-glam-closet-boutique-37680
END:VEVENT

END:VCALENDAR
