BEGIN:VCALENDAR
VERSION:2.0
PRODID:-//ChamberMaster//Event Calendar 2.0//EN
METHOD:PUBLISH
X-PUBLISHED-TTL:P3D
REFRESH-INTERVAL:P3D
CALSCALE:GREGORIAN
BEGIN:VEVENT
DTSTART:20190401T223000Z
DTEND:20190401T233000Z
X-MICROSOFT-CDO-ALLDAYEVENT:FALSE
SUMMARY:Unni Boksasp Ensemble Reception
DESCRIPTION:A reception honoring Norwegian music group Unni Boksasp Ensemble. There will be a few short remarks followed by a small sample of music from the ensemble. Local musician Emily Asher will also offer a few selections as part of the sharing music promoted by World Fest. There will be refreshments and a chance to meet the musicians and members of the South Dakota music community.
X-ALT-DESC;FMTTYPE=text/html:A reception honoring Norwegian music group Unni Boksasp Ensemble. There will be a few short remarks followed by a small sample of music from the ensemble. Local musician Emily Asher will also offer a few selections as part of the sharing music promoted by World Fest. There will be refreshments and a chance to meet the musicians and members of the South Dakota music community.
LOCATION:Discovery center
UID:e.413.27177
SEQUENCE:3
DTSTAMP:20260425T120904Z
URL:https://business.pierre.org/events/details/unni-boksasp-ensemble-reception-27177
END:VEVENT

END:VCALENDAR
