BEGIN:VCALENDAR
VERSION:2.0
PRODID:-//ChamberMaster//Event Calendar 2.0//EN
METHOD:PUBLISH
X-PUBLISHED-TTL:P3D
REFRESH-INTERVAL:P3D
CALSCALE:GREGORIAN
BEGIN:VEVENT
DTSTART:20210713T230000Z
DTEND:20210714T010000Z
X-MICROSOFT-CDO-ALLDAYEVENT:FALSE
SUMMARY:Understanding Me - Parenting Class
DESCRIPTION:Learn basics about keeping infants and toddlers safe.
X-ALT-DESC;FMTTYPE=text/html:Learn basics about keeping infants and toddlers safe.
LOCATION:The Right Turn
UID:e.413.34426
SEQUENCE:3
DTSTAMP:20260425T233054Z
URL:https://business.pierre.org/events/details/understanding-me-parenting-class-07-13-2021-34426
END:VEVENT

END:VCALENDAR
