BEGIN:VCALENDAR
VERSION:2.0
PRODID:-//ChamberMaster//Event Calendar 2.0//EN
METHOD:PUBLISH
X-PUBLISHED-TTL:P3D
REFRESH-INTERVAL:P3D
CALSCALE:GREGORIAN
BEGIN:VEVENT
DTSTART:20200308T190000Z
DTEND:20200308T210000Z
X-MICROSOFT-CDO-ALLDAYEVENT:FALSE
SUMMARY:Understanding Me For Parents and Caregivers of Infants & Toddlers Keep Me Safe
DESCRIPTION:Session 2 - Learn the basics about keeping infants and toddlers safe.
X-ALT-DESC;FMTTYPE=text/html:Session 2 - Learn the basics about keeping infants and toddlers safe.
LOCATION:First United Methodist Church
UID:e.413.30122
SEQUENCE:3
DTSTAMP:20260424T043942Z
URL:https://business.pierre.org/events/details/understanding-me-for-parents-and-caregivers-of-infants-toddlers-keep-me-safe-30122
END:VEVENT

END:VCALENDAR
