BEGIN:VCALENDAR
VERSION:2.0
PRODID:-//ChamberMaster//Event Calendar 2.0//EN
METHOD:PUBLISH
X-PUBLISHED-TTL:P3D
REFRESH-INTERVAL:P3D
CALSCALE:GREGORIAN
BEGIN:VEVENT
DTSTART:20200123T010000Z
DTEND:20200123T030000Z
X-MICROSOFT-CDO-ALLDAYEVENT:FALSE
SUMMARY:Understanding Me For Parents and Caregivers of Infants & Toddlers
DESCRIPTION:Parenting Class - Birth to 3 -How I Learn
X-ALT-DESC;FMTTYPE=text/html:Parenting Class - Birth to 3 -How I Learn
LOCATION:Online with The Right Turn
UID:e.413.29482
SEQUENCE:3
DTSTAMP:20260424T115322Z
URL:https://business.pierre.org/events/details/understanding-me-for-parents-and-caregivers-of-infants-toddlers-01-22-2020-29482
END:VEVENT

END:VCALENDAR
