BEGIN:VCALENDAR
VERSION:2.0
PRODID:-//ChamberMaster//Event Calendar 2.0//EN
METHOD:PUBLISH
X-PUBLISHED-TTL:P3D
REFRESH-INTERVAL:P3D
CALSCALE:GREGORIAN
BEGIN:VEVENT
DTSTART:20201110T000000Z
DTEND:20201110T020000Z
X-MICROSOFT-CDO-ALLDAYEVENT:FALSE
SUMMARY:Understanding Me
DESCRIPTION:Parenting Class 4 of 4 How I Learn Please call or email to register
X-ALT-DESC;FMTTYPE=text/html:Parenting Class 4 of 4 How I Learn Please call or email to register
LOCATION:Online with The Right Turn
UID:e.413.32635
SEQUENCE:3
DTSTAMP:20260422T001503Z
URL:https://business.pierre.org/events/details/understanding-me-11-09-2020-32635
END:VEVENT

END:VCALENDAR
