BEGIN:VCALENDAR
VERSION:2.0
PRODID:-//ChamberMaster//Event Calendar 2.0//EN
METHOD:PUBLISH
X-PUBLISHED-TTL:P3D
REFRESH-INTERVAL:P3D
CALSCALE:GREGORIAN
BEGIN:VEVENT
DTSTART:20210305T000000Z
DTEND:20210305T020000Z
X-MICROSOFT-CDO-ALLDAYEVENT:FALSE
SUMMARY:Understanding Me
DESCRIPTION:Parenting Class 1 of 4 Why I Do What I Do Learn basic Infant and Toddler development. How communication plays a role in parent and child relationships.
X-ALT-DESC;FMTTYPE=text/html:Parenting Class 1 of 4 Why I Do What I Do Learn basic Infant and Toddler development. How communication plays a role in parent and child relationships.
LOCATION:Online with The Right Turn
UID:e.413.33704
SEQUENCE:3
DTSTAMP:20260425T164237Z
URL:https://business.pierre.org/events/details/understanding-me-03-04-2021-33704
END:VEVENT

END:VCALENDAR
