BEGIN:VCALENDAR
VERSION:2.0
PRODID:-//ChamberMaster//Event Calendar 2.0//EN
METHOD:PUBLISH
X-PUBLISHED-TTL:P3D
REFRESH-INTERVAL:P3D
CALSCALE:GREGORIAN
BEGIN:VEVENT
DTSTART:20221028T230000Z
DTEND:20221029T010000Z
X-MICROSOFT-CDO-ALLDAYEVENT:FALSE
SUMMARY:Trunk or Treat
DESCRIPTION:Join us for Trunk or Treat at Dakota Prairie Bank Parking Lot\n\n\n\nContact Dakota Prairie Bank if you would like to reserve a spot for your trunk and treats at 605-223-2337.
X-ALT-DESC;FMTTYPE=text/html:Join us for Trunk or Treat at Dakota Prairie Bank Parking Lot<br />\n<br />\nContact Dakota Prairie Bank if you would like to reserve a spot for your trunk and treats at 605-223-2337.
LOCATION:Dakota Prairie Bank Parking Lot Fort Pierre\, SD
UID:e.413.36324
SEQUENCE:3
DTSTAMP:20260423T203456Z
URL:https://business.pierre.org/events/details/trunk-or-treat-36324
END:VEVENT

END:VCALENDAR
