BEGIN:VCALENDAR
VERSION:2.0
PRODID:-//ChamberMaster//Event Calendar 2.0//EN
METHOD:PUBLISH
X-PUBLISHED-TTL:P3D
REFRESH-INTERVAL:P3D
CALSCALE:GREGORIAN
BEGIN:VEVENT
DTSTART:20190802T000000Z
DTEND:20190802T010000Z
X-MICROSOFT-CDO-ALLDAYEVENT:FALSE
SUMMARY:Tales on the River
DESCRIPTION:Mark Venner presents the unique challenges of organic farming. As organic farming becomes the new normal Mark shares his experiences with changing from traditional to organic\, the unique challenges of organic farming and his predictions for the future.
X-ALT-DESC;FMTTYPE=text/html:Mark Venner presents the unique challenges of organic farming. As organic farming becomes the new normal Mark shares his experiences with changing from traditional to organic\, the unique challenges of organic farming and his predictions for the future.
LOCATION:Fort Pierre Moose Club
UID:e.413.28213
SEQUENCE:3
DTSTAMP:20260424T045818Z
URL:https://business.pierre.org/events/details/tales-on-the-river-08-01-2019-28213
END:VEVENT

END:VCALENDAR
