BEGIN:VCALENDAR
VERSION:2.0
PRODID:-//ChamberMaster//Event Calendar 2.0//EN
METHOD:PUBLISH
X-PUBLISHED-TTL:P3D
REFRESH-INTERVAL:P3D
CALSCALE:GREGORIAN
BEGIN:VEVENT
DTSTART:20230530T140000Z
DTEND:20230602T170000Z
X-MICROSOFT-CDO-ALLDAYEVENT:FALSE
SUMMARY:Summer Camp: Body & Mind (Shoots: 3rd-5th)
DESCRIPTION:Breathe! Stretch! Breathe! Did you know that when you have negative thoughts\, you make your muscles weaker? Can stress make you sick? In this program\, participants will participate in a "Fit Marathon." Participants reach each mile marker by completing a health challenge. Participants will learn how our minds and bodies are connected and how you can use food\, creativity\, exercise\, stretching\, and purposeful breathing to stay healthy and ready to conquer the world.
X-ALT-DESC;FMTTYPE=text/html:Breathe! Stretch! Breathe! Did you know that when you have negative thoughts\, you make your muscles weaker? Can stress make you sick? In this program\, participants will participate in a &ldquo\;Fit Marathon.&rdquo\; Participants reach each mile marker by completing a health challenge. Participants will learn how our minds and bodies are connected and how you can use food\, creativity\, exercise\, stretching\, and purposeful breathing to stay healthy and ready to conquer the world.
LOCATION:SD Discovery Center 805 W Sioux Ave Pierre\, SD 57501 UNITED STATES
UID:e.413.37002
SEQUENCE:3
DTSTAMP:20260423T044047Z
URL:https://business.pierre.org/events/details/summer-camp-body-mind-shoots-3rd-5th-37002
END:VEVENT

END:VCALENDAR
