BEGIN:VCALENDAR
VERSION:2.0
PRODID:-//ChamberMaster//Event Calendar 2.0//EN
METHOD:PUBLISH
X-PUBLISHED-TTL:P3D
REFRESH-INTERVAL:P3D
CALSCALE:GREGORIAN
BEGIN:VEVENT
DTSTART:20221210T180000Z
DTEND:20221210T200000Z
X-MICROSOFT-CDO-ALLDAYEVENT:FALSE
SUMMARY:Starry Saturdays
DESCRIPTION:Enjoy a variety of presentations from Greek or Lakota constellations\, the moon\, deep space objects\, and more. The topic will change depending on the presenter. Our new shows are not located inside of a planetarium dome and are in a larger area to allow for social distancing.
X-ALT-DESC;FMTTYPE=text/html:Enjoy a variety of presentations from Greek or Lakota constellations\, the moon\, deep space objects\, and more. The topic will change depending on the presenter. Our new shows are not located inside of a planetarium dome and are in a larger area to allow for social distancing.
LOCATION:South Dakota Discovery Center 805 W Sioux Ave Pierre\, SD 5051
UID:e.413.36334
SEQUENCE:3
DTSTAMP:20260421T213331Z
URL:https://business.pierre.org/events/details/starry-saturdays-12-10-2022-36334
END:VEVENT

END:VCALENDAR
