BEGIN:VCALENDAR
VERSION:2.0
PRODID:-//ChamberMaster//Event Calendar 2.0//EN
METHOD:PUBLISH
X-PUBLISHED-TTL:P3D
REFRESH-INTERVAL:P3D
CALSCALE:GREGORIAN
BEGIN:VEVENT
DTSTART:20201110T180000Z
DTEND:20201110T180000Z
X-MICROSOFT-CDO-ALLDAYEVENT:FALSE
SUMMARY:Stanley County Yearbook
DESCRIPTION:Businesses interested in sponsoring a page in the Stanley County School Yearbook please contact Bryan Bonhorst at Bryan.Bonhorst@k12.sd.us. Thank you for your consideration.
X-ALT-DESC;FMTTYPE=text/html:Businesses interested in sponsoring a page in the Stanley County School Yearbook please contact Bryan Bonhorst at Bryan.Bonhorst@k12.sd.us. Thank you for your consideration.
LOCATION:
UID:e.413.33145
SEQUENCE:3
DTSTAMP:20260422T215643Z
URL:https://business.pierre.org/events/details/stanley-county-yearbook-33145
END:VEVENT

END:VCALENDAR
