BEGIN:VCALENDAR
VERSION:2.0
PRODID:-//ChamberMaster//Event Calendar 2.0//EN
METHOD:PUBLISH
X-PUBLISHED-TTL:P3D
REFRESH-INTERVAL:P3D
CALSCALE:GREGORIAN
BEGIN:VEVENT
DTSTART:20240213T170000Z
DTEND:20240213T170000Z
X-MICROSOFT-CDO-ALLDAYEVENT:FALSE
SUMMARY:South Dakota Chiropractors Association Legislative Reception
DESCRIPTION:Coding\, Billing and Compliance for Chiropractic Made Easy\n\n11:00 AM   4:00 PM (lunch from 12:30   1:30)\n\nPresented by Kathy (KMC) Weidner \, MCS-P\, CCPC\,CPCO\, CCCA\n\nTo be compliant\, you must know the expectations placed upon this highly regulated healthcare profession. This knowledge is more critical than ever before with the increase in audits and recoupments. This training covers the latest updates to coding and compliance and especially Medicare. When documentation is great\, if it doesn't match the reporting\, your best efforts are foiled. This training uses real-time documentation samples to outline the required elements from history all the way through to coding. Risk Management and compliance is an all-team effort. Learn the compliance related action steps and knowledge necessary to immediately take control of your risk management and regulatory compliance.\n\nTo RSVP email: katy@sdchiropractors.com
X-ALT-DESC;FMTTYPE=text/html:<div class="xdj266r x11i5rnm xat24cr x1mh8g0r x1vvkbs" style="margin: 0px\; overflow-wrap: break-word\; font-family: &quot\;Segoe UI Historic&quot\;\, &quot\;Segoe UI&quot\;\, Helvetica\, Arial\, sans-serif\; color: rgb(5\, 5\, 5)\; font-size: 15px\;">Coding\, Billing and Compliance for Chiropractic&ndash\;Made Easy<br />\n11:00 AM &ndash\; 4:00 PM (lunch from 12:30 &ndash\; 1:30)<br />\nPresented by Kathy (KMC) Weidner \, MCS-P\, CCPC\,CPCO\, CCCA</div>\n\n<div class="x11i5rnm xat24cr x1mh8g0r x1vvkbs xtlvy1s" style="margin: 0.5em 0px 0px\; overflow-wrap: break-word\; font-family: &quot\;Segoe UI Historic&quot\;\, &quot\;Segoe UI&quot\;\, Helvetica\, Arial\, sans-serif\; color: rgb(5\, 5\, 5)\; font-size: 15px\;">To be compliant\, you must know the expectations placed upon this highly regulated healthcare profession. This knowledge is more critical than ever before with the increase in audits and recoupments. This training covers the latest updates to coding and compliance and especially Medicare. When documentation is great\, if it doesn&rsquo\;t match the reporting\, your best efforts are foiled. This training uses real-time documentation samples to outline the required elements from history all the way through to coding. Risk Management and compliance is an all-team effort. Learn the compliance related action steps and knowledge necessary to immediately take control of your risk management and regulatory compliance.</div>\n\n<div class="x11i5rnm xat24cr x1mh8g0r x1vvkbs xtlvy1s" style="margin: 0.5em 0px 0px\; overflow-wrap: break-word\; font-family: &quot\;Segoe UI Historic&quot\;\, &quot\;Segoe UI&quot\;\, Helvetica\, Arial\, sans-serif\; color: rgb(5\, 5\, 5)\; font-size: 15px\;">To RSVP email: katy@sdchiropractors.com</div>\n
LOCATION:RedRossa Italian Grille Pierre 808 W. Sioux Ave
UID:e.413.38715
SEQUENCE:3
DTSTAMP:20260424T215817Z
URL:https://business.pierre.org/events/details/south-dakota-chiropractors-association-legislative-reception-38715
END:VEVENT

END:VCALENDAR
