BEGIN:VCALENDAR
VERSION:2.0
PRODID:-//ChamberMaster//Event Calendar 2.0//EN
METHOD:PUBLISH
X-PUBLISHED-TTL:P3D
REFRESH-INTERVAL:P3D
CALSCALE:GREGORIAN
BEGIN:VEVENT
DTSTART;VALUE=DATE:20200823
DTEND;VALUE=DATE:20201001
TRANSP:TRANSPARENT
X-MICROSOFT-CDO-ALLDAYEVENT:TRUE
SUMMARY:Snorkeling Trips
DESCRIPTION:!! Snorkel trips! !! Come and witness the amazing underwater world right in our back yard! See endless schools of fish and witness predator fish in action. All while safely floating at the surface in knee deep water! Let Caleb Gilkerson guide you into a spectacular world. No experience necessary as this is extremely safe. All equipment supplied and a guided lesson for $38.00. The snorkeling will be approximately 1-2 hours. Private excursions available too.
X-ALT-DESC;FMTTYPE=text/html:!! Snorkel trips! !! Come and witness the amazing underwater world right in our back yard! See endless schools of fish and witness predator fish in action. All while safely floating at the surface in knee deep water! Let Caleb Gilkerson guide you into a spectacular world. No experience necessary as this is extremely safe. All equipment supplied and a guided lesson for $38.00. The snorkeling will be approximately 1-2 hours. Private excursions available too.
LOCATION:Meet at Steamboats\, Inc 511 W. Dakota Avenue Pierre SD 57501
UID:e.413.32463
SEQUENCE:3
DTSTAMP:20260424T170608Z
URL:https://business.pierre.org/events/details/snorkeling-trips-32463
END:VEVENT

END:VCALENDAR
