BEGIN:VCALENDAR
VERSION:2.0
PRODID:-//ChamberMaster//Event Calendar 2.0//EN
METHOD:PUBLISH
X-PUBLISHED-TTL:P3D
REFRESH-INTERVAL:P3D
CALSCALE:GREGORIAN
BEGIN:VEVENT
DTSTART:20230218T210000Z
DTEND:20230219T230000Z
X-MICROSOFT-CDO-ALLDAYEVENT:FALSE
SUMMARY:Sleeping Beauty Ballet Theatre
DESCRIPTION:Ballet Theatre of Hosanna Dance presents Sleeping Beauty A dance theatre performance of the classical ballet Sleeping Beauty. Come experience this classic story told through pantomime and dance.
X-ALT-DESC;FMTTYPE=text/html:Ballet Theatre of Hosanna Dance presents Sleeping Beauty A dance theatre performance of the classical ballet Sleeping Beauty. Come experience this classic story told through pantomime and dance.
LOCATION:TF Riggs Theatre\, 1010 E Broadway Ave\, Pierre\, SD 57501
UID:e.413.36865
SEQUENCE:3
DTSTAMP:20260425T011057Z
URL:https://business.pierre.org/events/details/sleeping-beauty-ballet-theatre-36865
END:VEVENT

END:VCALENDAR
