BEGIN:VCALENDAR
VERSION:2.0
PRODID:-//ChamberMaster//Event Calendar 2.0//EN
METHOD:PUBLISH
X-PUBLISHED-TTL:P3D
REFRESH-INTERVAL:P3D
CALSCALE:GREGORIAN
BEGIN:VEVENT
DTSTART:20241130T160000Z
DTEND:20241130T220000Z
X-MICROSOFT-CDO-ALLDAYEVENT:FALSE
SUMMARY:Shop Small Saturday - The Collective 605
DESCRIPTION:Shop Small Saturday at The Collective 605
X-ALT-DESC;FMTTYPE=text/html:Shop Small Saturday at The Collective 605<br />\n&nbsp\;
LOCATION:The Collective 605 201 E. Sioux Avenue\, Pierre\, SD
UID:e.413.40363
SEQUENCE:3
DTSTAMP:20260422T000438Z
URL:https://business.pierre.org/events/details/shop-small-saturday-the-collective-605-40363
END:VEVENT

END:VCALENDAR
