BEGIN:VCALENDAR
VERSION:2.0
PRODID:-//ChamberMaster//Event Calendar 2.0//EN
METHOD:PUBLISH
X-PUBLISHED-TTL:P3D
REFRESH-INTERVAL:P3D
CALSCALE:GREGORIAN
BEGIN:VEVENT
DTSTART:20191126T160000Z
DTEND:20191126T164500Z
X-MICROSOFT-CDO-ALLDAYEVENT:FALSE
SUMMARY:Seasoned Citizen Tai Chi
DESCRIPTION:Presented by the City of Pierre Recreation Department this is a safe and easy to learn program of slow movements and controlled breathing proven to improve health and balance and relieve pain.
X-ALT-DESC;FMTTYPE=text/html:Presented by the City of Pierre Recreation Department this is a safe and easy to learn program of slow movements and controlled breathing proven to improve health and balance and relieve pain.
LOCATION:Pierre Senior Center
UID:e.413.28950
SEQUENCE:3
DTSTAMP:20260419T200545Z
URL:https://business.pierre.org/events/details/seasoned-citizen-tai-chi-11-26-2019-28950
END:VEVENT

END:VCALENDAR
