BEGIN:VCALENDAR
VERSION:2.0
PRODID:-//ChamberMaster//Event Calendar 2.0//EN
METHOD:PUBLISH
X-PUBLISHED-TTL:P3D
REFRESH-INTERVAL:P3D
CALSCALE:GREGORIAN
BEGIN:VEVENT
DTSTART:20240525T170000Z
DTEND:20240526T030000Z
X-MICROSOFT-CDO-ALLDAYEVENT:FALSE
SUMMARY:Season Grand Opening! Fun Time Adventures
DESCRIPTION:Gear up for the thrill!\n\nCelebrate our Season Grand Opening with a day of adventure! From axe throwing to mini golfing to Go Karting. Plus\, inflatables for the kids!\n\n\n\nSpecial treats like our cotton candy\, snow cones and Boba Fun Lemonade. Sign up to win free prizes!
X-ALT-DESC;FMTTYPE=text/html:Gear up for the thrill!<br />\nCelebrate our Season Grand Opening with a day of adventure! From axe throwing to mini golfing to Go Karting. Plus\, inflatables for the kids!<br />\n<br />\nSpecial treats like our cotton candy\, snow cones and Boba Fun Lemonade. Sign up to win free prizes!
LOCATION:Fun Time Adventures 910 W Bass Drive\, Fort Pierre
UID:e.413.39309
SEQUENCE:3
DTSTAMP:20260423T040238Z
URL:https://business.pierre.org/events/details/season-grand-opening-fun-time-adventures-39309
END:VEVENT

END:VCALENDAR
