BEGIN:VCALENDAR
VERSION:2.0
PRODID:-//ChamberMaster//Event Calendar 2.0//EN
METHOD:PUBLISH
X-PUBLISHED-TTL:P3D
REFRESH-INTERVAL:P3D
CALSCALE:GREGORIAN
BEGIN:VEVENT
DTSTART;VALUE=DATE:20240718
DTEND;VALUE=DATE:20240719
TRANSP:TRANSPARENT
X-MICROSOFT-CDO-ALLDAYEVENT:TRUE
SUMMARY:SDGFP Antler and Property Auction
DESCRIPTION:SDGFP Antler and Property Auction
X-ALT-DESC;FMTTYPE=text/html:SDGFP Antler and Property Auction
LOCATION:Expo Center
UID:e.413.39088
SEQUENCE:3
DTSTAMP:20260421T085509Z
URL:https://business.pierre.org/events/details/sdgfp-antler-and-property-auction-39088
END:VEVENT

END:VCALENDAR
