BEGIN:VCALENDAR
VERSION:2.0
PRODID:-//ChamberMaster//Event Calendar 2.0//EN
METHOD:PUBLISH
X-PUBLISHED-TTL:P3D
REFRESH-INTERVAL:P3D
CALSCALE:GREGORIAN
BEGIN:VEVENT
DTSTART:20230414T210000Z
DTEND:20230415T000000Z
X-MICROSOFT-CDO-ALLDAYEVENT:FALSE
SUMMARY:Scott Jones\, Presdient/CEO of Delta Dental - Retirement Party
DESCRIPTION:Scott Jones\, President/CEO of Delta Dental of South Dakota is retiring after 46 years. Members of the community are invited to join us for an open house event as we wish Scott well and congratulate him on his retirement.
X-ALT-DESC;FMTTYPE=text/html:Scott Jones\, President/CEO of Delta Dental of South Dakota is retiring after 46 years. Members of the community are invited to join us for an open house event as we wish Scott well and congratulate him on his retirement.
LOCATION:Missouri Event Center 217 West Missouri Ave Pierre SD 57501
UID:e.413.36907
SEQUENCE:3
DTSTAMP:20260424T064659Z
URL:https://business.pierre.org/events/details/scott-jones-presdient-ceo-of-delta-dental-retirement-party-36907
END:VEVENT

END:VCALENDAR
