BEGIN:VCALENDAR
VERSION:2.0
PRODID:-//ChamberMaster//Event Calendar 2.0//EN
METHOD:PUBLISH
X-PUBLISHED-TTL:P3D
REFRESH-INTERVAL:P3D
CALSCALE:GREGORIAN
BEGIN:VEVENT
DTSTART:20240630T000000Z
DTEND:20240630T000000Z
X-MICROSOFT-CDO-ALLDAYEVENT:FALSE
SUMMARY:Saturday Sips - Oahe Zap Baseball
DESCRIPTION:Oahe Zap Baseball invites you out to the ballpark Saturday\, June 29 as the Zap take on the Hastings Sodbusters at 7 PM. \n\n\n\nPROMOTION: Saturday Sips $1 Koozies\n\nThis summer marks the second season of the Zap Baseball and we are doing our very best to bring the fun of summer baseball back to the community of central South Dakota!\n\n\n\nGet your tickets by clicking the link
X-ALT-DESC;FMTTYPE=text/html:Oahe Zap Baseball invites you out to the ballpark Saturday\, June 29 as the Zap take on the Hastings Sodbusters at 7 PM.&nbsp\;<br />\n<br />\nPROMOTION: Saturday Sips $1 Koozies<br />\nThis summer marks the second season of the Zap Baseball and we are doing our very best to bring the fun of summer baseball back to the community of central South Dakota!<br />\n<br />\n<a href="https://oahezapbaseball.goigniter.com/events/28947-hastings-sodbusters-vs-oahe-zap?fbclid=IwZXh0bgNhZW0CMTAAAR3DUbOMhB465rPS5yzG-igQU0-O4MI7cOzX7ghGB5iIyzOFK01eh1WBW-E_aem_ZmFrZWR1bW15MTZieXRlcw">Get your tickets by clicking the link</a>
LOCATION:Hyde Stadium
UID:e.413.39478
SEQUENCE:3
DTSTAMP:20260423T220830Z
URL:https://business.pierre.org/events/details/saturday-sips-oahe-zap-baseball-39478
END:VEVENT

END:VCALENDAR
