BEGIN:VCALENDAR
VERSION:2.0
PRODID:-//ChamberMaster//Event Calendar 2.0//EN
METHOD:PUBLISH
X-PUBLISHED-TTL:P3D
REFRESH-INTERVAL:P3D
CALSCALE:GREGORIAN
BEGIN:VEVENT
DTSTART:20201212T223000Z
DTEND:20201212T233000Z
X-MICROSOFT-CDO-ALLDAYEVENT:FALSE
SUMMARY:Santa Drive Through
DESCRIPTION:Drive through to say\, "hi" to Santa and get a small treat as we get ready to kick off the 12 Days of Christmas with Christ!\n\n\n\nPublic welcome!
X-ALT-DESC;FMTTYPE=text/html:Drive through to say\, &quot\;hi&quot\; to Santa and get a small treat as we get ready to kick off the 12 Days of Christmas with Christ!<br />\n<br />\nPublic welcome!
LOCATION:The Church of Jesus Christ of Latter Day Saints\, 506 N Jefferson
UID:e.413.33589
SEQUENCE:3
DTSTAMP:20260424T160751Z
URL:https://business.pierre.org/events/details/santa-drive-through-33589
END:VEVENT

END:VCALENDAR
