BEGIN:VCALENDAR
VERSION:2.0
PRODID:-//ChamberMaster//Event Calendar 2.0//EN
METHOD:PUBLISH
X-PUBLISHED-TTL:P3D
REFRESH-INTERVAL:P3D
CALSCALE:GREGORIAN
BEGIN:VEVENT
DTSTART:20220618T133000Z
DTEND:20220618T133000Z
X-MICROSOFT-CDO-ALLDAYEVENT:FALSE
SUMMARY:Run with the Govs'
DESCRIPTION:The Run With The Govs' 3.5 mile walk and run will be held June 18\, 2022 at 8:30 AM with the starting line at the Capitol's front steps.  Find registration information via Facebook.  Event proceeds will be donated by the organizers to the Trail of Governors Foundation.
X-ALT-DESC;FMTTYPE=text/html:The Run With The Govs&#39\; 3.5 mile walk and run will be held June 18\, 2022 at 8:30 AM with the starting line at the Capitol&#39\;s front steps.&nbsp\; Find registration information via Facebook.&nbsp\; Event proceeds will be donated by the organizers to the Trail of Governors Foundation.&nbsp\;
LOCATION:State Capitol's front steps\, Pierre\, SD
UID:e.413.35846
SEQUENCE:3
DTSTAMP:20260421T060809Z
URL:https://business.pierre.org/events/details/run-with-the-govs-35846
END:VEVENT

END:VCALENDAR
