BEGIN:VCALENDAR
VERSION:2.0
PRODID:-//ChamberMaster//Event Calendar 2.0//EN
METHOD:PUBLISH
X-PUBLISHED-TTL:P3D
REFRESH-INTERVAL:P3D
CALSCALE:GREGORIAN
BEGIN:VEVENT
DTSTART:20230915T230000Z
DTEND:20230916T020000Z
X-MICROSOFT-CDO-ALLDAYEVENT:FALSE
SUMMARY:Rowan Grace Live
DESCRIPTION:Rowan Grace is a rising star in the music world. Kiwanis is bringing her to Pierre for a fundraiser concert on Sept 15th. Pierre's very own Katie Dwyer will open the show. Doors open at 5:15. The show starts at 6:00 pm.
X-ALT-DESC;FMTTYPE=text/html:Rowan Grace is a rising star in the music world. Kiwanis is bringing her to Pierre for a fundraiser concert on Sept 15th. Pierre&#39\;s very own Katie Dwyer will open the show. Doors open at 5:15. The show starts at 6:00 pm.
LOCATION:TF Riggs Theater
UID:e.413.37152
SEQUENCE:3
DTSTAMP:20260420T231326Z
URL:https://business.pierre.org/events/details/rowan-grace-live-37152
END:VEVENT

END:VCALENDAR
