BEGIN:VCALENDAR
VERSION:2.0
PRODID:-//ChamberMaster//Event Calendar 2.0//EN
METHOD:PUBLISH
X-PUBLISHED-TTL:P3D
REFRESH-INTERVAL:P3D
CALSCALE:GREGORIAN
BEGIN:VEVENT
DTSTART;VALUE=DATE:20240925
DTEND;VALUE=DATE:20240926
TRANSP:TRANSPARENT
X-MICROSOFT-CDO-ALLDAYEVENT:TRUE
SUMMARY:Rooster Rush Storefront Decorating Contest
DESCRIPTION:Ready\, set\, decorate! \n\n\n\nEnter in the 2024 Rooster Rush Decorating Contest to show off your Fall storefront & for your chance to win the traveling trophy! Enter by emailing: mpanzer@pierre.org. It is FREE to enter. \n\n\n\nWe will stop by your storefront at the scheduled time to take a photo with Rudy\, and use that photo as the voting photo! Be sure to wear orange that week to celebrate 2024 Rooster Rush Week!!\n\n\n\nVoting will take place on the Pierre Area Chamber of Commerce Facebook page! Voting will be counter by LIKES on original post photo ONLY.  It will be FREE to vote. Beware of scams\, we will not ask for payment information to vote! \n\n\n\nRegistration: Now until Thursday\, October 10th at 5 PM. \n\nPhotos:  Monday\, October 14 - Tuesday\, October 15.\n\nVoting: Wednesday\, October 16 - Friday\, October 18th Until Noon.
X-ALT-DESC;FMTTYPE=text/html:Ready\, set\, decorate!&nbsp\;<br />\n<br />\nEnter in the 2024 Rooster Rush Decorating Contest to show off your Fall storefront &amp\; for your chance to win the traveling trophy!&nbsp\;<strong>Enter by emailing:&nbsp\;</strong>mpanzer@pierre.org. It is FREE to enter.&nbsp\;<br />\n<br />\nWe will stop by your storefront at the scheduled time to take a photo with Rudy\, and use that photo as the voting photo!&nbsp\;<strong>Be sure to wear orange that week to celebrate 2024 Rooster Rush Week!!</strong><br />\n<br />\nVoting will take place on the Pierre Area Chamber of Commerce Facebook page! Voting will be counter by LIKES on original post photo ONLY.&nbsp\;&nbsp\;<strong>It will be FREE to vote. Beware of scams\, <u>we will not ask</u> for payment information to vote!&nbsp\;</strong><br />\n<br />\n<strong>Registration:&nbsp\;</strong>Now until Thursday\, October 10th at 5 PM.&nbsp\;<br />\n<strong>Photos:&nbsp\;</strong>&nbsp\;Monday\, October 14 - Tuesday\, October 15.<br />\n<strong>Voting:&nbsp\;</strong>Wednesday\, October 16 - Friday\, October 18th&nbsp\;<strong>Until Noon.</strong><br />\n<br />\n&nbsp\;
LOCATION:
UID:e.413.39766
SEQUENCE:3
DTSTAMP:20260422T100600Z
URL:https://business.pierre.org/events/details/rooster-rush-storefront-decorating-contest-09-25-2024-39766
END:VEVENT

END:VCALENDAR
