BEGIN:VCALENDAR
VERSION:2.0
PRODID:-//ChamberMaster//Event Calendar 2.0//EN
METHOD:PUBLISH
X-PUBLISHED-TTL:P3D
REFRESH-INTERVAL:P3D
CALSCALE:GREGORIAN
BEGIN:VEVENT
DTSTART;VALUE=DATE:20230321
DTEND;VALUE=DATE:20230322
TRANSP:TRANSPARENT
X-MICROSOFT-CDO-ALLDAYEVENT:TRUE
SUMMARY:Robin Watch
DESCRIPTION:Join us on social media as we give robin facts as the robins start to come back out to play!
X-ALT-DESC;FMTTYPE=text/html:Join us on social media as we give robin facts as the robins start to come back out to play!
LOCATION:SDDC Social Media
UID:e.413.36888
SEQUENCE:3
DTSTAMP:20260423T020709Z
URL:https://business.pierre.org/events/details/robin-watch-03-21-2023-36888
END:VEVENT

END:VCALENDAR
