BEGIN:VCALENDAR
VERSION:2.0
PRODID:-//ChamberMaster//Event Calendar 2.0//EN
METHOD:PUBLISH
X-PUBLISHED-TTL:P3D
REFRESH-INTERVAL:P3D
CALSCALE:GREGORIAN
BEGIN:VEVENT
DTSTART:20240914T150000Z
DTEND:20240914T210000Z
X-MICROSOFT-CDO-ALLDAYEVENT:FALSE
SUMMARY:Roadhouse Motorcycle Show and Swap Meet
DESCRIPTION:Rev your engines\, gearheads! The ROADHOUSE at Grey Goose Store & Social Club is CRANKING it up with our BIGGEST EVER Motorcycle Show and Swap Meet!\n\n\n\nCalling all customizers in the 605 region: Showcase your bikes and compete for our epic cash prizes! We're talkin' the hottest two-wheeled scene you've ever seen\, and YOUR ride could be the star.\n\n\n\nGrease monkeys\, got parts collecting dust in the garage? Dust 'em off\, bring 'em down\, and swap them for treasures you'll actually use! From handlebars to helmets\, score the perfect upgrade and clear some space. \n\n\n\nHere's the lowdown:\n\n \n\nPrizes: Big bucks for the baddest bikes!\n\nSwaps: Trade those dusty parts for shiny new goodies!\n\nVibe:  The best motorcycle scene in South Dakota!\n\n\n\nSpread the word\, tag your grease monkey crew\, and get ready for a day of:\n\nMetal Marvels: Feast your eyes on stunning custom motorcycles!\n\nGear Galore: Find the perfect parts to pimp your ride!\n\nGood times: Food\, drinks\, music\, and the camaraderie of fellow motorcycle enthusiasts! \n\nDon't miss the biggest\, loudest\, most epic motorcycle event in the 605! See you there!\n\n\n\nMessage Grey Goose Store and Social Club to be a vendor!
X-ALT-DESC;FMTTYPE=text/html:<p>Rev your engines\, gearheads! The ROADHOUSE at Grey Goose Store &amp\; Social Club is CRANKING it up with our BIGGEST EVER Motorcycle Show and Swap Meet!<br />\n<br />\nCalling all customizers in the 605 region: Showcase your bikes and compete for our epic cash prizes! We&#39\;re talkin&#39\; the hottest two-wheeled scene you&#39\;ve ever seen\, and YOUR ride could be the star.<br />\n<br />\nGrease monkeys\, got parts collecting dust in the garage? Dust &#39\;em off\, bring &#39\;em down\, and swap them for treasures you&#39\;ll actually use! From handlebars to helmets\, score the perfect upgrade and clear some space.&nbsp\;<br />\n<br />\nHere&#39\;s the lowdown:<br />\n&nbsp\;</p>\n\n<p>Prizes: Big bucks for the baddest bikes!<br />\nSwaps: Trade those dusty parts for shiny new goodies!<br />\nVibe:&nbsp\; The best motorcycle scene in South Dakota!<br />\n<br />\nSpread the word\, tag your grease monkey crew\, and get ready for a day of:<br />\nMetal Marvels: Feast your eyes on stunning custom motorcycles!<br />\nGear Galore: Find the perfect parts to pimp your ride!<br />\nGood times: Food\, drinks\, music\, and the camaraderie of fellow motorcycle enthusiasts!&nbsp\;<br />\nDon&#39\;t miss the biggest\, loudest\, most epic motorcycle event in the 605! See you there!<br />\n<br />\nMessage Grey Goose Store and Social Club to be a vendor!</p>\n
LOCATION:Grey Goose Store and Social Club
UID:e.413.39466
SEQUENCE:3
DTSTAMP:20260423T062926Z
URL:https://business.pierre.org/events/details/roadhouse-motorcycle-show-and-swap-meet-39466
END:VEVENT

END:VCALENDAR
