BEGIN:VCALENDAR
VERSION:2.0
PRODID:-//ChamberMaster//Event Calendar 2.0//EN
METHOD:PUBLISH
X-PUBLISHED-TTL:P3D
REFRESH-INTERVAL:P3D
CALSCALE:GREGORIAN
BEGIN:VEVENT
DTSTART;VALUE=DATE:20240619
DTEND;VALUE=DATE:20240620
TRANSP:TRANSPARENT
X-MICROSOFT-CDO-ALLDAYEVENT:TRUE
SUMMARY:Rising Hope Competitive Puzzling Fundraiser
DESCRIPTION:Wine\, cheese\, and puzzles! Gather your team for a fun night of competitive puzzling for our fundraiser! \n\n	Teams will consist of up to four people (must be 21 or older)\n	Each team will receive a 500-piece puzzle (yours to keep)\n	two bottles of wine\n	and a charcuterie board\n	Your team will have 3hrs to finish not only their puzzle\, but the wine and charcuterie board as well. \n\nPrizes will be awarded
X-ALT-DESC;FMTTYPE=text/html:Wine\, cheese\, and puzzles! Gather your team for a fun night of competitive puzzling for our fundraiser!&nbsp\;\n<ul>\n	<li>Teams will consist of up to four people (must be 21 or older)</li>\n	<li>Each team will receive a 500-piece puzzle (yours to keep)</li>\n	<li>two bottles of wine</li>\n	<li>and a charcuterie board</li>\n	<li>Your team will have 3hrs to finish not only their puzzle\, but the wine and charcuterie board as well.&nbsp\;</li>\n</ul>\nPrizes will be awarded&nbsp\;
LOCATION:Drifters\, Fort Pierre
UID:e.413.39104
SEQUENCE:3
DTSTAMP:20260424T154645Z
URL:https://business.pierre.org/events/details/rising-hope-competitive-puzzling-fundraiser-39104
END:VEVENT

END:VCALENDAR
