BEGIN:VCALENDAR
VERSION:2.0
PRODID:-//ChamberMaster//Event Calendar 2.0//EN
METHOD:PUBLISH
X-PUBLISHED-TTL:P3D
REFRESH-INTERVAL:P3D
CALSCALE:GREGORIAN
BEGIN:VEVENT
DTSTART:20200505T150000Z
DTEND:20200505T151500Z
X-MICROSOFT-CDO-ALLDAYEVENT:FALSE
SUMMARY:Revive "Coffee Break Movement" (12min) with Karla
DESCRIPTION:Revive "Coffee Break Movement" (12min) with Karla at the Oahe YMCA
X-ALT-DESC;FMTTYPE=text/html:Revive &quot\;Coffee Break Movement&quot\; (12min) with Karla at the Oahe YMCA
LOCATION:https://www.facebook.com/OaheFamilyYMCA/
UID:e.413.31871
SEQUENCE:3
DTSTAMP:20260422T173058Z
URL:https://business.pierre.org/events/details/revive-coffee-break-movement-12min-with-karla-31871
END:VEVENT

END:VCALENDAR
