BEGIN:VCALENDAR
VERSION:2.0
PRODID:-//ChamberMaster//Event Calendar 2.0//EN
METHOD:PUBLISH
X-PUBLISHED-TTL:P3D
REFRESH-INTERVAL:P3D
CALSCALE:GREGORIAN
BEGIN:VEVENT
DTSTART:20200415T150000Z
DTEND:20200415T153000Z
X-MICROSOFT-CDO-ALLDAYEVENT:FALSE
SUMMARY:(Remote) Hip Hop Fun for Kids
DESCRIPTION:(Remote) Hip Hop Fun For Kids with Karen at the Oahe YMCA
X-ALT-DESC;FMTTYPE=text/html:(Remote) Hip Hop Fun For Kids with Karen at the Oahe YMCA&nbsp\;
LOCATION:Facebook Live: http://www.facebook.com/#!/pages/Oahe-Family-YMCA/178554445524181
UID:e.413.30773
SEQUENCE:3
DTSTAMP:20260425T120644Z
URL:https://business.pierre.org/events/details/remote-hip-hop-fun-for-kids-30773
END:VEVENT

END:VCALENDAR
