BEGIN:VCALENDAR
VERSION:2.0
PRODID:-//ChamberMaster//Event Calendar 2.0//EN
METHOD:PUBLISH
X-PUBLISHED-TTL:P3D
REFRESH-INTERVAL:P3D
CALSCALE:GREGORIAN
BEGIN:VEVENT
DTSTART:20200423T211500Z
DTEND:20200423T220000Z
X-MICROSOFT-CDO-ALLDAYEVENT:FALSE
SUMMARY:Remote Hatha Yoga with Tami
DESCRIPTION:Remote Hatha Yoga with Tami at the Oahe YMCA
X-ALT-DESC;FMTTYPE=text/html:Remote Hatha Yoga with Tami at the Oahe YMCA
LOCATION:https://www.facebook.com/OaheFamilyYMCA/
UID:e.413.30792
SEQUENCE:3
DTSTAMP:20260423T034954Z
URL:https://business.pierre.org/events/details/remote-hatha-yoga-with-tami-30792
END:VEVENT

END:VCALENDAR
