BEGIN:VCALENDAR
VERSION:2.0
PRODID:-//ChamberMaster//Event Calendar 2.0//EN
METHOD:PUBLISH
X-PUBLISHED-TTL:P3D
REFRESH-INTERVAL:P3D
CALSCALE:GREGORIAN
BEGIN:VEVENT
DTSTART:20221114T150000Z
DTEND:20221118T230000Z
X-MICROSOFT-CDO-ALLDAYEVENT:FALSE
SUMMARY:Rawlins Library Book Sale
DESCRIPTION:Rawlins Library book sale $3 a bag or .25 cents per item. Book sale is open regular library hours Mon-Thur. 9 AM to 8 PM and Fri. 9 AM to 5 PM
X-ALT-DESC;FMTTYPE=text/html:Rawlins Library book sale $3 a bag or .25 cents per item. Book sale is open regular library hours Mon-Thur. 9 AM to 8 PM and Fri. 9 AM to 5 PM
LOCATION:Rawlins Library 1000 E. Church St. Pierre\, SD
UID:e.413.36406
SEQUENCE:3
DTSTAMP:20260420T182816Z
URL:https://business.pierre.org/events/details/rawlins-library-book-sale-36406
END:VEVENT

END:VCALENDAR
