BEGIN:VCALENDAR
VERSION:2.0
PRODID:-//ChamberMaster//Event Calendar 2.0//EN
METHOD:PUBLISH
X-PUBLISHED-TTL:P3D
REFRESH-INTERVAL:P3D
CALSCALE:GREGORIAN
BEGIN:VEVENT
DTSTART:20210217T180000Z
DTEND:20210217T180000Z
X-MICROSOFT-CDO-ALLDAYEVENT:FALSE
SUMMARY:Quick Books Parts One & Two
DESCRIPTION:Instructor Dr. Natalie Anderson Designed for small businesses. Dr. Natalie Anderson teaches using "hands-on" experience. Learn how to set up your company and chart your accounts\, track your payables and receivables\, record your income\, prepare computerized checks or record annual checks\, reconcile your bank statement\, prepare financial reports\, and manage your payroll! Bring your laptop\, you will use your QuickBooks Desktop software! SAVE- Register for both parts for $160.00. Part One $90.00 Tuesday\, February 16\, 2021\; Part Two $90.00 Wednesday\, February 17\, 2021 from 6:00-9:00pm
X-ALT-DESC;FMTTYPE=text/html:Instructor Dr. Natalie Anderson Designed for small businesses. Dr. Natalie Anderson teaches using &quot\;hands-on&quot\; experience. Learn how to set up your company and chart your accounts\, track your payables and receivables\, record your income\, prepare computerized checks or record annual checks\, reconcile your bank statement\, prepare financial reports\, and manage your payroll! Bring your laptop\, you will use your QuickBooks Desktop software! SAVE- Register for both parts for $160.00. Part One $90.00 Tuesday\, February 16\, 2021\; Part Two $90.00 Wednesday\, February 17\, 2021 from 6:00-9:00pm
LOCATION:Capital City Campus - Pierre\, SD
UID:e.413.32519
SEQUENCE:3
DTSTAMP:20260421T155521Z
URL:https://business.pierre.org/events/details/quick-books-parts-one-two-02-17-2021-32519
END:VEVENT

END:VCALENDAR
