BEGIN:VCALENDAR
VERSION:2.0
PRODID:-//ChamberMaster//Event Calendar 2.0//EN
METHOD:PUBLISH
X-PUBLISHED-TTL:P3D
REFRESH-INTERVAL:P3D
CALSCALE:GREGORIAN
BEGIN:VEVENT
DTSTART:20230228T003000Z
DTEND:20230228T013000Z
X-MICROSOFT-CDO-ALLDAYEVENT:FALSE
SUMMARY:Q&A - FDC Expansion and Startup Grants
DESCRIPTION:Join our ECE (Early Childhood Enrichment) team over zoom Monday\, February 27th @ 6:30 pm! We will be discussing all of the benefits of becoming a Registered Daycare provider\, its amazing benefits\, and how to take advantage of the NEW EXPANSION & STARTUP GRANTS! 50\,000 + dollars to those who qualify! WE WANT TO HELP YOU! Registration is FREE To register please call 605-773-4755 or email Brandy at Bohman@midconetwork.com * FREE *ONLINE *EDUCATIONAL Q&A *SUPPORT FROM YOUR LOCAL ECE TEAM
X-ALT-DESC;FMTTYPE=text/html:Join our ECE (Early Childhood Enrichment) team over zoom Monday\, February 27th @ 6:30 pm! We will be discussing all of the benefits of becoming a Registered Daycare provider\, its amazing benefits\, and how to take advantage of the NEW EXPANSION &amp\; STARTUP GRANTS! 50\,000 + dollars to those who qualify! WE WANT TO HELP YOU! Registration is FREE To register please call 605-773-4755 or email Brandy at Bohman@midconetwork.com * FREE *ONLINE *EDUCATIONAL Q&amp\;A *SUPPORT FROM YOUR LOCAL ECE TEAM
LOCATION:Online
UID:e.413.36849
SEQUENCE:3
DTSTAMP:20260422T043021Z
URL:https://business.pierre.org/events/details/q-a-fdc-expansion-and-startup-grants-36849
END:VEVENT

END:VCALENDAR
