BEGIN:VCALENDAR
VERSION:2.0
PRODID:-//ChamberMaster//Event Calendar 2.0//EN
METHOD:PUBLISH
X-PUBLISHED-TTL:P3D
REFRESH-INTERVAL:P3D
CALSCALE:GREGORIAN
BEGIN:VEVENT
DTSTART:20231117T180000Z
DTEND:20231118T000000Z
X-MICROSOFT-CDO-ALLDAYEVENT:FALSE
SUMMARY:Pink Friday Sale! Kris' Glam Closet Boutique
DESCRIPTION:Pink Friday! This day is all about SHOPPING SMALL FIRST before the big box stores! This will be our BIGGEST SALE OF THE YEAR! We will have a Pink Basket with all pink items to giveaway! We will have Pink drinks & treats! Look for more information on our Facebook page!
X-ALT-DESC;FMTTYPE=text/html:Pink Friday! This day is all about SHOPPING SMALL FIRST before the big box stores! This will be our BIGGEST SALE OF THE YEAR! We will have a Pink Basket with all pink items to giveaway! We will have Pink drinks &amp\; treats! Look for more information on our Facebook page!&nbsp\;
LOCATION:Kris' Glam Closet Downtown Pierre
UID:e.413.37935
SEQUENCE:3
DTSTAMP:20260424T125913Z
URL:https://business.pierre.org/events/details/pink-friday-sale-kris-glam-closet-boutique-37935
END:VEVENT

END:VCALENDAR
