BEGIN:VCALENDAR
VERSION:2.0
PRODID:-//ChamberMaster//Event Calendar 2.0//EN
METHOD:PUBLISH
X-PUBLISHED-TTL:P3D
REFRESH-INTERVAL:P3D
CALSCALE:GREGORIAN
BEGIN:VEVENT
DTSTART:20210909T210000Z
DTEND:20210909T233000Z
X-MICROSOFT-CDO-ALLDAYEVENT:FALSE
SUMMARY:Pierre Players Season Kickoff and Annual Membership Meeting
DESCRIPTION:Join Pierre Players as we kick off our 2022 season with show announcements\, friends and a short annual membership meeting!
X-ALT-DESC;FMTTYPE=text/html:Join Pierre Players as we kick off our 2022 season with show announcements\, friends and a short annual membership meeting!
LOCATION:St. Charles Lounge
UID:e.413.34512
SEQUENCE:3
DTSTAMP:20260425T144014Z
URL:https://business.pierre.org/events/details/pierre-players-season-kickoff-and-annual-membership-meeting-34512
END:VEVENT

END:VCALENDAR
