BEGIN:VCALENDAR
VERSION:2.0
PRODID:-//ChamberMaster//Event Calendar 2.0//EN
METHOD:PUBLISH
X-PUBLISHED-TTL:P3D
REFRESH-INTERVAL:P3D
CALSCALE:GREGORIAN
BEGIN:VEVENT
DTSTART:20170325T003000Z
DTEND:20170325T023000Z
X-MICROSOFT-CDO-ALLDAYEVENT:FALSE
SUMMARY:Piano Conversations with Julian Gargiulo
DESCRIPTION:Julian Gargiulo is a dynamic classical pianist who performs the compositions of renowned masters with extraordinary passion and precision. Gargiulo fills concert halls with his personal brand of charm\, humor and charisma\, and also provides a keyboard video or members of his audience can see his hands to their work. Born in Italy\, he now hold dual American/Italian citizenship\, and has studied internationally in Russia and Italy as well as the US.
X-ALT-DESC;FMTTYPE=text/html:Julian Gargiulo is a dynamic classical pianist who performs the compositions of renowned masters with extraordinary passion and precision. Gargiulo fills concert halls with his personal brand of charm\, humor and charisma\, and also provides a keyboard video or members of his audience can see his hands to their work. Born in Italy\, he now hold dual American/Italian citizenship\, and has studied internationally in Russia and Italy as well as the US.
LOCATION:Riggs High Theatre
UID:e.413.23482
SEQUENCE:3
DTSTAMP:20260423T102325Z
URL:https://business.pierre.org/events/details/piano-conversations-with-julian-gargiulo-23482
END:VEVENT

END:VCALENDAR
