BEGIN:VCALENDAR
VERSION:2.0
PRODID:-//ChamberMaster//Event Calendar 2.0//EN
METHOD:PUBLISH
X-PUBLISHED-TTL:P3D
REFRESH-INTERVAL:P3D
CALSCALE:GREGORIAN
BEGIN:VEVENT
DTSTART;VALUE=DATE:20191108
DTEND;VALUE=DATE:20191110
TRANSP:TRANSPARENT
X-MICROSOFT-CDO-ALLDAYEVENT:TRUE
SUMMARY:Pheasant Hunt & Banquet With Miss South Dakota
DESCRIPTION:Hunt With Miss South Dakota and Miss South Dakota Outstanding Teen.\n\nBanquet and silent auction Friday evening. Pheasant Hunt on Saturday\, lunch provided.\n\n\n\nRSVP by November 4 - Brent (605) 494-0414
X-ALT-DESC;FMTTYPE=text/html:Hunt With Miss South Dakota and Miss South Dakota Outstanding Teen.<br />\nBanquet and silent auction Friday evening. Pheasant Hunt on Saturday\, lunch provided.<br />\n<br />\nRSVP by November 4 - Brent (605) 494-0414
LOCATION:Banquet: Richie Z's Brickhouse BBQ Pheasant Hunt: Willow Creek Wildlife\, Inc.
UID:e.413.29392
SEQUENCE:3
DTSTAMP:20260423T143905Z
URL:https://business.pierre.org/events/details/pheasant-hunt-banquet-with-miss-south-dakota-29392
END:VEVENT

END:VCALENDAR
