BEGIN:VCALENDAR
VERSION:2.0
PRODID:-//ChamberMaster//Event Calendar 2.0//EN
METHOD:PUBLISH
X-PUBLISHED-TTL:P3D
REFRESH-INTERVAL:P3D
CALSCALE:GREGORIAN
BEGIN:VEVENT
DTSTART:20200627T230000Z
DTEND:20200628T030000Z
X-MICROSOFT-CDO-ALLDAYEVENT:FALSE
SUMMARY:PAWS Animal Rescue 40th Birthday Party
DESCRIPTION:PAWS Animal Rescue is celebrating it's 40th birthday! Join in on the fun and help us raise money to continue our mission of caring for homeless animals in our area.
X-ALT-DESC;FMTTYPE=text/html:PAWS Animal Rescue is celebrating it&#39\;s 40th birthday! Join in on the fun and help us raise money to continue our mission of caring for homeless animals in our area.
LOCATION:Drifters Event Center
UID:e.413.30277
SEQUENCE:3
DTSTAMP:20260423T163825Z
URL:https://business.pierre.org/events/details/paws-animal-rescue-40th-birthday-party-30277
END:VEVENT

END:VCALENDAR
