BEGIN:VCALENDAR
VERSION:2.0
PRODID:-//ChamberMaster//Event Calendar 2.0//EN
METHOD:PUBLISH
X-PUBLISHED-TTL:P3D
REFRESH-INTERVAL:P3D
CALSCALE:GREGORIAN
BEGIN:VEVENT
DTSTART:20191125T230000Z
DTEND:20191126T010000Z
X-MICROSOFT-CDO-ALLDAYEVENT:FALSE
SUMMARY:Parade of Lights 2019
DESCRIPTION:Help us ring in the holiday season by joining us for the 19th Annual Parade of Lights. The parade will be Monday evening to kick off the holiday season. Registration forms are available at the Chamber. Pre-registration requested but not mandatory.\n\nPrizes will be awarded for 1st\, 2nd and 3rd place entries\, in addition to the Mayor's Choice\, Griswold and People's Choice awards.
X-ALT-DESC;FMTTYPE=text/html:Help us ring in the holiday season by joining us for the 19th Annual Parade of Lights. The parade will be Monday evening to kick off the holiday season. Registration forms are available at the Chamber. Pre-registration requested but not mandatory.<br />\nPrizes will be awarded for 1st\, 2nd and 3rd place entries\, in addition to the Mayor&#39\;s Choice\, Griswold and People&#39\;s Choice awards.
LOCATION:The parade will lineup at the Riggs High School parking lot and begin on Broadway Avenue. It will travel on Broadway to Highland Avenue\, turn onto Highland\, continue on Highland until turning onto Pleasant and then on to Pierre Street\, finishing at the American Legion cabin. This is the same route as the Riggs High School homecoming parade.
UID:e.413.27927
SEQUENCE:3
DTSTAMP:20260423T142412Z
URL:https://business.pierre.org/events/details/parade-of-lights-2019-27927
END:VEVENT

END:VCALENDAR
